BEGIN:VCALENDAR
VERSION:2.0
PRODID:-//Englefontaine - ECPv6.15.17.1//NONSGML v1.0//EN
CALSCALE:GREGORIAN
METHOD:PUBLISH
X-WR-CALNAME:Englefontaine
X-ORIGINAL-URL:https://www.englefontaine.fr
X-WR-CALDESC:Évènements pour Englefontaine
REFRESH-INTERVAL;VALUE=DURATION:PT1H
X-Robots-Tag:noindex
X-PUBLISHED-TTL:PT1H
BEGIN:VTIMEZONE
TZID:Europe/Paris
BEGIN:DAYLIGHT
TZOFFSETFROM:+0100
TZOFFSETTO:+0200
TZNAME:CEST
DTSTART:20220327T010000
END:DAYLIGHT
BEGIN:STANDARD
TZOFFSETFROM:+0200
TZOFFSETTO:+0100
TZNAME:CET
DTSTART:20221030T010000
END:STANDARD
BEGIN:DAYLIGHT
TZOFFSETFROM:+0100
TZOFFSETTO:+0200
TZNAME:CEST
DTSTART:20230326T010000
END:DAYLIGHT
BEGIN:STANDARD
TZOFFSETFROM:+0200
TZOFFSETTO:+0100
TZNAME:CET
DTSTART:20231029T010000
END:STANDARD
BEGIN:DAYLIGHT
TZOFFSETFROM:+0100
TZOFFSETTO:+0200
TZNAME:CEST
DTSTART:20240331T010000
END:DAYLIGHT
BEGIN:STANDARD
TZOFFSETFROM:+0200
TZOFFSETTO:+0100
TZNAME:CET
DTSTART:20241027T010000
END:STANDARD
END:VTIMEZONE
BEGIN:VEVENT
DTSTART;TZID=Europe/Paris:20231215T183000
DTEND;TZID=Europe/Paris:20231215T210000
DTSTAMP:20260421T152022
CREATED:20231201T092427Z
LAST-MODIFIED:20231201T092509Z
UID:4046-1702665000-1702674000@www.englefontaine.fr
SUMMARY:Spectacle de Noël
DESCRIPTION:
URL:https://www.englefontaine.fr/evenement/spectacle-de-noel/
LOCATION:Salle des fêtes\, Rue de la République\, Englefontaine\, 59530\, France
CATEGORIES:Mis en avant
ATTACH;FMTTYPE=image/png:https://www.englefontaine.fr/wp-content/uploads/2023/12/Spectacle-noel-2023-Pacifik.png
END:VEVENT
END:VCALENDAR