BEGIN:VCALENDAR
VERSION:2.0
PRODID:-//Englefontaine - ECPv6.15.17.1//NONSGML v1.0//EN
CALSCALE:GREGORIAN
METHOD:PUBLISH
X-ORIGINAL-URL:https://www.englefontaine.fr
X-WR-CALDESC:Évènements pour Englefontaine
REFRESH-INTERVAL;VALUE=DURATION:PT1H
X-Robots-Tag:noindex
X-PUBLISHED-TTL:PT1H
BEGIN:VTIMEZONE
TZID:Europe/Paris
BEGIN:DAYLIGHT
TZOFFSETFROM:+0100
TZOFFSETTO:+0200
TZNAME:CEST
DTSTART:20220327T010000
END:DAYLIGHT
BEGIN:STANDARD
TZOFFSETFROM:+0200
TZOFFSETTO:+0100
TZNAME:CET
DTSTART:20221030T010000
END:STANDARD
BEGIN:DAYLIGHT
TZOFFSETFROM:+0100
TZOFFSETTO:+0200
TZNAME:CEST
DTSTART:20230326T010000
END:DAYLIGHT
BEGIN:STANDARD
TZOFFSETFROM:+0200
TZOFFSETTO:+0100
TZNAME:CET
DTSTART:20231029T010000
END:STANDARD
BEGIN:DAYLIGHT
TZOFFSETFROM:+0100
TZOFFSETTO:+0200
TZNAME:CEST
DTSTART:20240331T010000
END:DAYLIGHT
BEGIN:STANDARD
TZOFFSETFROM:+0200
TZOFFSETTO:+0100
TZNAME:CET
DTSTART:20241027T010000
END:STANDARD
END:VTIMEZONE
BEGIN:VEVENT
DTSTART;TZID=Europe/Paris:20230602T190000
DTEND;TZID=Europe/Paris:20230602T233000
DTSTAMP:20260422T004105
CREATED:20230413T083916Z
LAST-MODIFIED:20230413T084313Z
UID:3935-1685732400-1685748600@www.englefontaine.fr
SUMMARY:Fêtes des voisins
DESCRIPTION:
URL:https://www.englefontaine.fr/evenement/fetes-des-voisins-2/
LOCATION:Place Eugène Thomas\, Place Eugène Thomas\, Englefontaine\, 59530\, France
END:VEVENT
BEGIN:VEVENT
DTSTART;TZID=Europe/Paris:20230611T150000
DTEND;TZID=Europe/Paris:20230611T163000
DTSTAMP:20260422T004105
CREATED:20230601T192808Z
LAST-MODIFIED:20230601T194856Z
UID:3964-1686495600-1686501000@www.englefontaine.fr
SUMMARY:Concert d'orgue
DESCRIPTION:
URL:https://www.englefontaine.fr/evenement/concert-dorgue/
LOCATION:Eglise\, Place Eugène Thomas\, Englefontaine\, 59530\, France
END:VEVENT
END:VCALENDAR