BEGIN:VCALENDAR
VERSION:2.0
PRODID:-//Englefontaine - ECPv6.15.17.1//NONSGML v1.0//EN
CALSCALE:GREGORIAN
METHOD:PUBLISH
X-WR-CALNAME:Englefontaine
X-ORIGINAL-URL:https://www.englefontaine.fr
X-WR-CALDESC:Évènements pour Englefontaine
REFRESH-INTERVAL;VALUE=DURATION:PT1H
X-Robots-Tag:noindex
X-PUBLISHED-TTL:PT1H
BEGIN:VTIMEZONE
TZID:Europe/Paris
BEGIN:DAYLIGHT
TZOFFSETFROM:+0100
TZOFFSETTO:+0200
TZNAME:CEST
DTSTART:20190331T010000
END:DAYLIGHT
BEGIN:STANDARD
TZOFFSETFROM:+0200
TZOFFSETTO:+0100
TZNAME:CET
DTSTART:20191027T010000
END:STANDARD
BEGIN:DAYLIGHT
TZOFFSETFROM:+0100
TZOFFSETTO:+0200
TZNAME:CEST
DTSTART:20200329T010000
END:DAYLIGHT
BEGIN:STANDARD
TZOFFSETFROM:+0200
TZOFFSETTO:+0100
TZNAME:CET
DTSTART:20201025T010000
END:STANDARD
BEGIN:DAYLIGHT
TZOFFSETFROM:+0100
TZOFFSETTO:+0200
TZNAME:CEST
DTSTART:20210328T010000
END:DAYLIGHT
BEGIN:STANDARD
TZOFFSETFROM:+0200
TZOFFSETTO:+0100
TZNAME:CET
DTSTART:20211031T010000
END:STANDARD
END:VTIMEZONE
BEGIN:VEVENT
DTSTART;VALUE=DATE:20200502
DTEND;VALUE=DATE:20200505
DTSTAMP:20260426T004206
CREATED:20190106T222129Z
LAST-MODIFIED:20191230T131300Z
UID:3252-1588377600-1588636799@www.englefontaine.fr
SUMMARY:Ducasse
DESCRIPTION:Ducasse sur la place Eugène Thomas
URL:https://www.englefontaine.fr/evenement/ducasse-05-20/
LOCATION:Place Eugène Thomas\, Place Eugène Thomas\, Englefontaine\, 59530\, France
ATTACH;FMTTYPE=image/jpeg:https://www.englefontaine.fr/wp-content/uploads/2018/04/ducasse.jpg
END:VEVENT
END:VCALENDAR